BEGIN:VCALENDAR
VERSION:2.0
PRODID:-//Escape Outdoor - ECPv4.9.0//NONSGML v1.0//EN
CALSCALE:GREGORIAN
METHOD:PUBLISH
X-WR-CALNAME:Escape Outdoor
X-ORIGINAL-URL:https://www.escapeoutdoorguides.com
X-WR-CALDESC:Eventi per Escape Outdoor
BEGIN:VEVENT
DTSTART;VALUE=DATE:20260510
DTEND;VALUE=DATE:20260511
DTSTAMP:20260420T133422
CREATED:20260302T091133Z
LAST-MODIFIED:20260302T111148Z
UID:3197-1778371200-1778457599@www.escapeoutdoorguides.com
SUMMARY:Corso Trad!
DESCRIPTION:Due giorni per apprendere il corretto utilizzo delle protezioni tradizionali e la tecnica di arrampicata in fessura! \nProgramma:\n1 Giorno\nFalesia trad per apprendere le basi di posizionamento delle protezioni e le tecniche di incastro in fessura.\n\n2 Giorno\nVia lunga tradizionale dove da secondi di cordata vedrete progressione\, allestimento soste e molto altro! \nQuando?\n10 e 24 Maggio \n  \n\n\nContattateci tramite il form! \n\n\n\n  \nCarlo Giuliberti +39 3338764930 \nPiergiorgio Lotito +39 3381126103 \nAndrea Fontanini: +39 3397539143 \n Giovanni Ravizza : + 39 3493601781 \n\n\n\n\n\n\n
URL:https://www.escapeoutdoorguides.com/event/corso-trad/
ATTACH;FMTTYPE=image/jpeg:https://www.escapeoutdoorguides.com/wp-content/uploads/2020/10/DSC03013-12-scaled.jpg
END:VEVENT
END:VCALENDAR